BEGIN:VCALENDAR
VERSION:2.0
PRODID:-//BRT Intertech//architect26//EN
CALSCALE:GREGORIAN
METHOD:PUBLISH
BEGIN:VEVENT
UID:architect26-brt-tp07@brtintertech.com
DTSTAMP:20260420T000000Z
DTSTART;VALUE=DATE:20260428
DTEND;VALUE=DATE:20260504
SUMMARY:architect'26 — BRT Intertech Booth TP07 "ปราณสถาน"
DESCRIPTION:ชมบูธ BRT Intertech × Context Design Studio — Thematic Pavilion "ปราณสถาน" (Pranasathan) ในงาน architect'26 พบ 6 แบรนด์ชั้นนำ: SMARTMATT, BUMRUNGTHAI, INTOSPEC, SUPERSTEP, PERGO, QUIKFLO
LOCATION:Impact Muang Thong Thani, Challenger Hall 3, Booth TP07, Nonthaburi, Thailand
URL:https://asa.brtintertech.com/
STATUS:CONFIRMED
END:VEVENT
END:VCALENDAR
